{
 "currentVersion": 11.1,
 "serviceDescription": "The 2018 5-ft DEM is a hydro-enforced DEM developed by GPI from the 2018 LiDAR data.",
 "name": "DEMs/2018_5ft_DEM",
 "description": "The 2018 5-ft DEM is a hydro-enforced DEM developed by GPI from the 2018 LiDAR data.",
 "extent": {
  "xmin": 699999.999937579,
  "ymin": 384999.9997199889,
  "xmax": 946249.999937579,
  "ymax": 598749.9997199889,
  "spatialReference": {
   "wkid": 103022,
   "latestWkid": 6438,
   "vcsWkid": 105703,
   "latestVcsWkid": 6360
  }
 },
 "initialExtent": {
  "xmin": 699999.999937579,
  "ymin": 384999.9997199889,
  "xmax": 946249.999937579,
  "ymax": 598749.9997199889,
  "spatialReference": {
   "wkid": 103022,
   "latestWkid": 6438,
   "vcsWkid": 105703,
   "latestVcsWkid": 6360
  }
 },
 "fullExtent": {
  "xmin": 699999.999937579,
  "ymin": 384999.9997199889,
  "xmax": 946249.999937579,
  "ymax": 598749.9997199889,
  "spatialReference": {
   "wkid": 103022,
   "latestWkid": 6438,
   "vcsWkid": 105703,
   "latestVcsWkid": 6360
  }
 },
 "sortableFields": "",
 "heightModelInfo": {
  "heightModel": "gravity_related_height",
  "vertCRS": "NAVD88_height_(ftUS)",
  "heightUnit": "us-foot"
 },
 "bandCount": 1,
 "pixelType": "F32",
 "minValues": [
  -29.204484939575
 ],
 "maxValues": [
  204.53796386719
 ],
 "meanValues": [
  6.357164040709
 ],
 "stdvValues": [
  4.9841780332302
 ],
 "hasMultidimensions": false,
 "pixelSizeX": 5,
 "pixelSizeY": 5,
 "datasetFormat": "TIFF",
 "uncompressedSize": 8421750000,
 "blockWidth": 128,
 "blockHeight": 128,
 "compressionType": "LZW",
 "bandNames": [
  "Band_1"
 ],
 "allowCopy": true,
 "allowAnalysis": true,
 "itemAccess": false,
 "noDataValue": -3.4028230607370965E38,
 "noDataValues": [
  -3.4028230607370965E38
 ],
 "minPixelSize": 0,
 "maxPixelSize": 0,
 "copyrightText": "Miami Dade County and GPI Geospatial, Inc.",
 "serviceDataType": "esriImageServiceDataTypeGeneric",
 "serviceSourceType": "esriImageServiceSourceTypeDataset",
 "objectIdField": "",
 "fields": [],
 "capabilities": "Mensuration,Image,Metadata",
 "defaultMosaicMethod": "Center",
 "allowedMosaicMethods": "",
 "sortField": "",
 "sortValue": null,
 "sortAscending": true,
 "mosaicOperator": "First",
 "defaultCompressionQuality": 75,
 "defaultResamplingMethod": "Bilinear",
 "maxImageHeight": 4100,
 "maxImageWidth": 15000,
 "allowRasterFunction": true,
 "rasterFunctionInfos": [
  {
   "name": "None",
   "description": "Make a Raster or Raster Dataset into a Function Raster Dataset.",
   "help": ""
  },
  {
   "name": "Stretched_5ftDEMRender_BlueToBrown",
   "description": "A raster function template.",
   "help": ""
  }
 ],
 "rasterTypeInfos": [
  {
   "name": "Raster Dataset",
   "description": "Supports all ArcGIS Raster Datasets",
   "help": ""
  }
 ],
 "mensurationCapabilities": "Basic",
 "hasHistograms": true,
 "hasColormap": false,
 "hasRasterAttributeTable": false,
 "minScale": 0,
 "maxScale": 0,
 "exportTilesAllowed": false,
 "supportsStatistics": false,
 "supportsAdvancedQueries": false,
 "editFieldsInfo": null,
 "ownershipBasedAccessControlForRasters": null,
 "allowComputeTiePoints": false,
 "useStandardizedQueries": true,
 "advancedQueryCapabilities": {
  "useStandardizedQueries": true,
  "supportsStatistics": false,
  "supportsOrderBy": false,
  "supportsDistinct": false,
  "supportsPagination": false
 },
 "spatialReference": {
  "wkid": 103022,
  "latestWkid": 6438,
  "vcsWkid": 105703,
  "latestVcsWkid": 6360
 }
}
