View In:
ArcGIS JavaScript
ArcGIS Online Map Viewer
ArcGIS Earth
Service Description: This image service presents an orthorectified mosaic of the Metrorail guideway between Coconut Grove and Vizcaya stations, covering approximately 1.8 miles. Imagery was captured by Digital E Consulting using sUAS with RTK GPS and electro-optical sensors to achieve high positional accuracy, with a GSD under 1 inch and RMSE under 4 inches.
Miami Dade County Transit staff coordinated ground control point collection prior to flights. The mosaic was processed and enhanced using a custom raster function template to improve contrast and brightness for better visual clarity. Raster settings applied Brightness negative 2, Contrast 10.
Name: MetroRail_Images/MetroRailOrthophotos
Description: This image service presents an orthorectified mosaic of the Metrorail guideway between Coconut Grove and Vizcaya stations, covering approximately 1.8 miles. Imagery was captured by Digital E Consulting using sUAS with RTK GPS and electro-optical sensors to achieve high positional accuracy, with a GSD under 1 inch and RMSE under 4 inches.
Miami Dade County Transit staff coordinated ground control point collection prior to flights. The mosaic was processed and enhanced using a custom raster function template to improve contrast and brightness for better visual clarity. Raster settings applied Brightness negative 2, Contrast 10.
Single Fused Map Cache: false
Extent:
XMin: -8942047.6589
YMin: 2959489.0239237547
XMax: -8927276.74455712
YMax: 2980063.8919999995
Spatial Reference: 102100
(3857)
Initial Extent:
XMin: -8942047.6589
YMin: 2959489.0239237547
XMax: -8927276.74455712
YMax: 2980063.8919999995
Spatial Reference: 102100
(3857)
Full Extent:
XMin: -8942047.6589
YMin: 2959489.0239237547
XMax: -8927276.74455712
YMax: 2980063.8919999995
Spatial Reference: 102100
(3857)
Pixel Size X: 0.0047975520496914585
Pixel Size Y: 0.004797552049691727
Band Count: 4
Pixel Type: U8
RasterFunction Infos: {"rasterFunctionInfos": [{
"name": "None",
"description": "Make a Raster or Raster Dataset into a Function Raster Dataset.",
"help": ""
}]}
Mensuration Capabilities: NONE
Has Histograms: true
Has Colormap: false
Has Multi Dimensions : false
Rendering Rule:
Min Scale: 0
Max Scale: 0
Copyright Text:
Service Data Type: esriImageServiceDataTypeGeneric
Min Values: 0, 0, 0, 0
Max Values: 212, 213, 213, 255
Mean Values: 8.370845139227963, 8.217039570102587, 7.56314606741561, 19.537430385930783
Standard Deviation Values: 29.718883085680492, 29.119664945616734, 27.395897895784476, 66.16546548165176
Object ID Field: OBJECTID
Fields:
-
OBJECTID
(
type: esriFieldTypeOID, alias: OBJECTID
)
-
Shape
(
type: esriFieldTypeGeometry, alias: Shape
)
-
Name
(
type: esriFieldTypeString, alias: Name, length: 200
)
-
MinPS
(
type: esriFieldTypeDouble, alias: MinPS
)
-
MaxPS
(
type: esriFieldTypeDouble, alias: MaxPS
)
-
LowPS
(
type: esriFieldTypeDouble, alias: LowPS
)
-
HighPS
(
type: esriFieldTypeDouble, alias: HighPS
)
-
Category
(
type: esriFieldTypeInteger, alias: Category
, Coded Values:
[0: Unknown]
, [1: Primary]
, [2: Overview]
, ...6 more...
)
-
Tag
(
type: esriFieldTypeString, alias: Tag, length: 100
)
-
GroupName
(
type: esriFieldTypeString, alias: GroupName, length: 100
)
-
ProductName
(
type: esriFieldTypeString, alias: ProductName, length: 100
)
-
CenterX
(
type: esriFieldTypeDouble, alias: CenterX
)
-
CenterY
(
type: esriFieldTypeDouble, alias: CenterY
)
-
ZOrder
(
type: esriFieldTypeInteger, alias: ZOrder
)
-
Shape_Length
(
type: esriFieldTypeDouble, alias: Shape_Length
)
-
Shape_Area
(
type: esriFieldTypeDouble, alias: Shape_Area
)
Default Mosaic Method: Northwest
Allowed Mosaic Methods: NorthWest,Center,LockRaster,ByAttribute,Nadir,Viewpoint,Seamline,None
SortField:
SortValue: null
Mosaic Operator: First
Default Compression Quality: 75
Default Resampling Method: Bilinear
Max Record Count: 1000
Max Image Height: 4100
Max Image Width: 15000
Max Download Image Count: 20
Max Mosaic Image Count: 45
Allow Raster Function: true
Allow Copy: true
Allow Analysis: true
Allow Compute TiePoints: false
Supports Statistics: true
Supports Advanced Queries: true
Use StandardizedQueries: true
Raster Type Infos:
Name: Raster Dataset
Description: Supports all ArcGIS Raster Datasets
Help:
Has Raster Attribute Table: false
Edit Fields Info: null
Ownership Based AccessControl For Rasters: null
Child Resources:
Info
Histograms
Statistics
Key Properties
Legend
Raster Function Infos
Supported Operations:
Export Image
Query
Identify
Measure
Compute Histograms
Compute Statistics Histograms
Get Samples
Compute Class Statistics
Query Boundary
Compute Pixel Location
Compute Angles
Validate
Project