View In:
ArcGIS JavaScript
ArcGIS Online Map Viewer
ArcGIS Earth
Service Description: The 2015 5-ft DEM is a hydro-enforced DEM developed by ACA from the 2015 LiDAR data.
Name: DEMs/2015_5ft_DEM
Description: The 2015 5-ft DEM is a hydro-enforced DEM developed by ACA from the 2015 LiDAR data.
Single Fused Map Cache: false
Extent:
XMin: 695000.0001220703
YMin: 325000.0001220703
XMax: 950000.0001220703
YMax: 615000.0001220703
Spatial Reference: 2881
(2881)
Initial Extent:
XMin: 695000.0001220703
YMin: 325000.0001220703
XMax: 950000.0001220703
YMax: 615000.0001220703
Spatial Reference: 2881
(2881)
Full Extent:
XMin: 695000.0001220703
YMin: 325000.0001220703
XMax: 950000.0001220703
YMax: 615000.0001220703
Spatial Reference: 2881
(2881)
Pixel Size X: 5.0
Pixel Size Y: 5.0
Band Count: 1
Pixel Type: F32
RasterFunction Infos: {"rasterFunctionInfos": [
{
"name": "None",
"description": "Make a Raster or Raster Dataset into a Function Raster Dataset.",
"help": ""
},
{
"name": "Stretched_5ftDEMRender_BlueToBrown",
"description": "A raster function template.",
"help": ""
}
]}
Mensuration Capabilities: Basic
Has Histograms: false
Has Colormap: false
Has Multi Dimensions : false
Rendering Rule:
Min Scale: 0
Max Scale: 0
Copyright Text: Miami Dade County and Aerial Cartographics of America (ACA).
Service Data Type: esriImageServiceDataTypeElevation
Min Values: -23.888000488281
Max Values: 206.42799377441
Mean Values: 4.4096197993456
Standard Deviation Values: 4.3321109368922
Object ID Field:
Fields:
None
Default Mosaic Method: Center
Allowed Mosaic Methods:
SortField:
SortValue: null
Mosaic Operator: First
Default Compression Quality: 75
Default Resampling Method: Bilinear
Max Record Count: null
Max Image Height: 4100
Max Image Width: 15000
Max Download Image Count: null
Max Mosaic Image Count: null
Allow Raster Function: true
Allow Copy: true
Allow Analysis: true
Allow Compute TiePoints: false
Supports Statistics: false
Supports Advanced Queries: false
Use StandardizedQueries: true
Raster Type Infos:
Name: Raster Dataset
Description: Supports all ArcGIS Raster Datasets
Help:
Has Raster Attribute Table: false
Edit Fields Info: null
Ownership Based AccessControl For Rasters: null
Child Resources:
Info
Statistics
Key Properties
Legend
Raster Function Infos
Supported Operations:
Export Image
Identify
Measure
Compute Histograms
Compute Statistics Histograms
Get Samples
Compute Class Statistics
Query Boundary
Compute Pixel Location
Compute Angles
Validate
Project
Calculate Volume