View In:
ArcGIS JavaScript
ArcGIS Online Map Viewer
ArcGIS Earth
Service Description: The 2018 5-ft DEM is a hydro-enforced DEM developed by GPI from the 2018 LiDAR data.
Name: DEMs/2018_5ft_DEM
Description: The 2018 5-ft DEM is a hydro-enforced DEM developed by GPI from the 2018 LiDAR data.
Single Fused Map Cache: false
Extent:
XMin: 699999.999937579
YMin: 384999.9997199889
XMax: 946249.999937579
YMax: 598749.9997199889
Spatial Reference: 103022
(6438)
VCSWkid(105703)
LatestVCSWkid(6360)
Initial Extent:
XMin: 699999.999937579
YMin: 384999.9997199889
XMax: 946249.999937579
YMax: 598749.9997199889
Spatial Reference: 103022
(6438)
VCSWkid(105703)
LatestVCSWkid(6360)
Full Extent:
XMin: 699999.999937579
YMin: 384999.9997199889
XMax: 946249.999937579
YMax: 598749.9997199889
Spatial Reference: 103022
(6438)
VCSWkid(105703)
LatestVCSWkid(6360)
Pixel Size X: 5.0
Pixel Size Y: 5.0
Band Count: 1
Pixel Type: F32
RasterFunction Infos: {"rasterFunctionInfos": [
{
"name": "None",
"description": "Make a Raster or Raster Dataset into a Function Raster Dataset.",
"help": ""
},
{
"name": "Stretched_5ftDEMRender_BlueToBrown",
"description": "A raster function template.",
"help": ""
}
]}
Mensuration Capabilities: Basic
Has Histograms: true
Has Colormap: false
Has Multi Dimensions : false
Rendering Rule:
Min Scale: 0
Max Scale: 0
Copyright Text: Miami Dade County and GPI Geospatial, Inc.
Service Data Type: esriImageServiceDataTypeGeneric
Min Values: -29.204484939575
Max Values: 204.53796386719
Mean Values: 6.357164040709
Standard Deviation Values: 4.9841780332302
Object ID Field:
Fields:
None
Default Mosaic Method: Center
Allowed Mosaic Methods:
SortField:
SortValue: null
Mosaic Operator: First
Default Compression Quality: 75
Default Resampling Method: Bilinear
Max Record Count: null
Max Image Height: 4100
Max Image Width: 15000
Max Download Image Count: null
Max Mosaic Image Count: null
Allow Raster Function: true
Allow Copy: true
Allow Analysis: true
Allow Compute TiePoints: false
Supports Statistics: false
Supports Advanced Queries: false
Use StandardizedQueries: true
Raster Type Infos:
Name: Raster Dataset
Description: Supports all ArcGIS Raster Datasets
Help:
Has Raster Attribute Table: false
Edit Fields Info: null
Ownership Based AccessControl For Rasters: null
Child Resources:
Info
Histograms
Statistics
Key Properties
Legend
Raster Function Infos
Supported Operations:
Export Image
Identify
Measure
Compute Histograms
Compute Statistics Histograms
Get Samples
Compute Class Statistics
Query Boundary
Compute Pixel Location
Compute Angles
Validate
Project